Workbook

Sheet PACIENTES
A1: NOME DO HOSPITAL
A2: SETOR
A3: Leito | B3: Paciente | C3: Matrícula
A4: 1 | B4: 1111111111 | C4: 11111
A5: 2 | B5: 2222222222 | C5: 22222
A6: 3 | B6: 3333333333 | C6: 33333
A7: 4 | B7: 4444444444 | C7: 44444
A8: 5 | B8: 5555555555 | C8: 55555
A15: =TODAY()+1 -> 45183

Sheet LEITO_1
A2: APARTAMENTO
A4: Nome | C4: CREUSA PEREIRA ARAUJO | J4: Pront. | P4: Enfermaria | R4: =PACIENTES!A2 -> SETOR | S4: Leito
A5: Dieta
A6: Medicação | H6: Via | I6: Posologia | J6: Horário da medicação | P6: Relatório da enfermagem | V6: Via | W6: Posologia
A7: 1 | B7: DIETA BRANDA (QUANDO BEM ACORDADA) | V7: VO | W7: 1x/dia
A8: 2 | B8: DADOS VITAIS DE 6/6HS | V8: IV | W8: 12/12h
A9: 3 | B9: REPOUSO NO LEITO | V9: CNE | W9: 8/8h
A10: 4 | B10: ONDANSENTRONA 1 AMP + ABD SE VOMITOS PERSSISTENTES
A11: 5 | V11: IM | W11: 6/6h
A12: 6 | B12: TRAMADOL 01 AMP + ABD, EV DE 8/8HS SE DOR FORTE | V12: GTT | W12: 4/4h
A13: 7 | B13: CEFAZOLINA 1G EV + 20ML AD LENTO DE 8/8 HORAS | V13: Nasal | W13: SOS
A14: 9 | B14: DIPIRONA 01 AMP + ABD, EV DE 6/6HS FIXO | W14: BI ACM
A15: 10 | B15: SVA EM CASO DE RETENÇÃO URINÁRIA
A16: 11 | B16: SF 0,9% 500 + 500 + 500 --> 40GTS/MIN
A17: 12 | B17: GH 50% 20 + 20 + 20 --> ADICIONAR 01 EM CADA SF
A18: 13 | B18: MANTER MEDICAÇÕES DE USO DOMICILIAR , EXCETO BACLOFENO
A19: 14 | B19: ** BACLOFENO ORAL SUSPENSO | E19: ***
A20: 15 | B20: ESPIRONOLACTONA | E20: USO DOMICILIAR
A21: 16 | B21: LEVODOPA | E21: USO DOMICILIAR
B22: GABAPENTINA | E22: USO DOMICILIAR
B23: ESCITALOPRAM | E23: USO DOMICILIAR
B24: OXIBUTININA | E24: USO DOMICILIAR
B25: RISPERIDONA | E25: USO DOMICILIAR
B26: OXCARBAZEPINA | E26: USO DOMICILIAR

Sheet LEITO_2
A1: =PACIENTES!A1 -> NOME DO HOSPITAL
A2: =PACIENTES!A2 -> SETOR
A3: =PACIENTES!A15 -> 45183
A4: Nome | C4: =PACIENTES!B5 -> 2222222222 | J4: Pront. | L4: =PACIENTES!C5 -> 22222 | P4: Enfermaria | R4: =PACIENTES!A2 -> SETOR | S4: Leito | T4: =PACIENTES!A5 -> 2
A5: Dieta
A6: Medicação | H6: Via | I6: Posologia | J6: Horário da medicação | P6: Relatório da enfermagem | V6: Via | W6: Posologia
A7: 1 | V7: VO | W7: 1x/dia
A8: 2 | V8: IV | W8: 12/12h
A9: 3 | V9: CNE | W9: 8/8h
A10: 4 | V10: IM | W10: 6/6h
A11: 5 | V11: GTT | W11: 4/4h
A12: 6 | V12: Tópico | W12: 2/2h
A13: 7 | V13: Nasal | W13: SOS
A14: 8 | V14: Retal | W14: ACM
A15: 9 | W15: BI ACM
A16: 10
A17: 11
A18: 12
A19: 13
A20: 14
A21: 15
A22: 16
A23: 17
A24: 18
A25: 19
A26: 20
A27: 21
... A34: 28

Sheet LEITO_3
A1: =PACIENTES!A1 -> NOME DO HOSPITAL
A2: =PACIENTES!A2 -> SETOR
A3: =PACIENTES!A15 -> 45183
A4: Nome | C4: =PACIENTES!B6 -> 3333333333 | J4: Pront. | L4: =PACIENTES!C6 -> 33333 | P4: Enfermaria | R4: =PACIENTES!A2 -> SETOR | S4: Leito | T4: =PACIENTES!C6 -> 33333
A5: Dieta
A6: Medicação | H6: Via | I6: Posologia | J6: Horário da medicação | P6: Relatório da enfermagem | V6: Via | W6: Posologia
A7: 1 | V7: VO | W7: 1x/dia
A8: 2 | V8: IV | W8: 12/12h
A9: 3 | V9: CNE | W9: 8/8h
A10: 4 | V10: IM | W10: 6/6h
A11: 5 | V11: GTT | W11: 4/4h
A12: 6 | V12: Tópico | W12: 2/2h
A13: 7 | V13: Nasal | W13: SOS
A14: 8 | V14: Retal | W14: ACM
A15: 9 | W15: BI ACM
A16: 10
A17: 11
A18: 12
A19: 13
A20: 14
A21: 15
A22: 16
A23: 17
A24: 18
A25: 19
A26: 20
A27: 21
... A34: 28

Sheet LEITO_4
A1: =PACIENTES!A1 -> NOME DO HOSPITAL
A2: =PACIENTES!A2 -> SETOR
A3: =PACIENTES!A15 -> 45183
A4: Nome | C4: =PACIENTES!B7 -> 4444444444 | J4: Pront. | L4: =PACIENTES!C7 -> 44444 | P4: Enfermaria | R4: =PACIENTES!A2 -> SETOR | S4: Leito | T4: =PACIENTES!A7 -> 4
A5: Dieta
A6: Medicação | H6: Via | I6: Posologia | J6: Horário da medicação | P6: Relatório da enfermagem | V6: Via | W6: Posologia
A7: 1 | V7: VO | W7: 1x/dia
A8: 2 | V8: IV | W8: 12/12h
A9: 3 | V9: CNE | W9: 8/8h
A10: 4 | V10: IM | W10: 6/6h
A11: 5 | V11: GTT | W11: 4/4h
A12: 6 | V12: Tópico | W12: 2/2h
A13: 7 | V13: Nasal | W13: SOS
A14: 8 | V14: Retal | W14: ACM
A15: 9 | W15: BI ACM
A16: 10
A17: 11
A18: 12
A19: 13
A20: 14
A21: 15
A22: 16
A23: 17
A24: 18
A25: 19
A26: 20
A27: 21
... A34: 28

Sheet LEITO_5
A1: =PACIENTES!A1 -> NOME DO HOSPITAL
A2: =PACIENTES!A2 -> SETOR
A3: =PACIENTES!A15 -> 45183
A4: Nome | C4: =PACIENTES!B8 -> 5555555555 | J4: Pront. | L4: =PACIENTES!C8 -> 55555 | P4: Enfermaria | R4: =PACIENTES!A2 -> SETOR | S4: Leito | T4: =PACIENTES!A8 -> 5
A5: Dieta
A6: Medicação | H6: Via | I6: Posologia | J6: Horário da medicação | P6: Relatório da enfermagem | V6: Via | W6: Posologia
A7: 1 | V7: VO | W7: 1x/dia
A8: 2 | V8: IV | W8: 12/12h
A9: 3 | V9: CNE | W9: 8/8h
A10: 4 | V10: IM | W10: 6/6h
A11: 5 | V11: GTT | W11: 4/4h
A12: 6 | V12: Tópico | W12: 2/2h
A13: 7 | V13: Nasal | W13: SOS
A14: 8 | V14: Retal | W14: ACM
A15: 9 | W15: BI ACM
A16: 10
A17: 11
A18: 12
A19: 13
A20: 14
A21: 15
A22: 16
A23: 17
A24: 18
A25: 19
A26: 20
A27: 21
... A34: 28
